BEGIN:VCALENDAR
VERSION:2.0
PRODID:SchoolNow
CALSCALE:GREGORIAN
BEGIN:VEVENT
UID:0c011a64-31f0-11f1-97c3-0a58a9feac02
DTSTAMP:20260406T193728Z
SUMMARY:CDD Board Meeting - May 2025
LOCATION:the Offices of Inframark located at 2005 Pan Am Circle\, Suite 300
 \, Tampa\, FL 33607
URL;VALUE=URI:https://www.parkeastcdd.com/calendar/8974888/cdd-board-meetin
 g-may-2025
DTSTART:20250501T180000Z
DTEND:20250501T190000Z
ATTACH;FILENAME=2025-05-01 PE Agenda.pdf;FMTTYPE=application/pdf:https://ca
 mpussuite-storage.s3.amazonaws.com/prod/1559307/5328d67c-bb1f-11f0-8a0a-0a
 fffa06ec9d/3036382/40452e0a-bf40-11f0-a798-0e56e2a97179/file/2025-05-01 PE
  Agenda.pdf
END:VEVENT
END:VCALENDAR
