BEGIN:VCALENDAR
VERSION:2.0
PRODID:SchoolNow
CALSCALE:GREGORIAN
BEGIN:VEVENT
UID:f41a8a52-31ef-11f1-a716-0afff9befcc5
DTSTAMP:20260406T193648Z
SUMMARY:CDD Board Meeting - Jun. 2025
LOCATION:the Offices of Inframark located at 2005 Pan Am Circle\, Suite 300
 \, Tampa\, FL 33607
URL;VALUE=URI:https://www.parkeastcdd.com/calendar/8974887/cdd-board-meetin
 g-jun-2025
DTSTART:20250605T180000Z
DTEND:20250605T190000Z
ATTACH;FILENAME=2025-06-05 PE Agenda.pdf;FMTTYPE=application/pdf:https://ca
 mpussuite-storage.s3.amazonaws.com/prod/1559307/5328d67c-bb1f-11f0-8a0a-0a
 fffa06ec9d/3036383/40452ee6-bf40-11f0-86a7-0e56e2a97179/file/2025-06-05 PE
  Agenda.pdf
END:VEVENT
END:VCALENDAR
