BEGIN:VCALENDAR
VERSION:2.0
PRODID:SchoolNow
CALSCALE:GREGORIAN
BEGIN:VEVENT
UID:d9303264-31ef-11f1-a1a6-0a58a9feac02
DTSTAMP:20260406T193603Z
SUMMARY:CDD Board Meeting - Jul. 2025
LOCATION:the Offices of Inframark located at 2005 Pan Am Circle\, Suite 300
 \, Tampa\, FL 33607
URL;VALUE=URI:https://www.parkeastcdd.com/calendar/8974886/cdd-board-meetin
 g-jul-2025
DTSTART:20250710T180000Z
DTEND:20250710T190000Z
ATTACH;FILENAME=2025-07-10 PE Agenda.pdf;FMTTYPE=application/pdf:https://ca
 mpussuite-storage.s3.amazonaws.com/prod/1559307/5328d67c-bb1f-11f0-8a0a-0a
 fffa06ec9d/3036384/40452fd6-bf40-11f0-967e-0e56e2a97179/file/2025-07-10 PE
  Agenda.pdf
END:VEVENT
END:VCALENDAR
