BEGIN:VCALENDAR
VERSION:2.0
PRODID:SchoolNow
CALSCALE:GREGORIAN
BEGIN:VEVENT
UID:6f03b5bc-c577-11f0-a51d-0e23e915d72f
DTSTAMP:20251119T195148Z
SUMMARY:CDD Board Meeting - Sept. 2026
LOCATION:the Offices of Inframark located at 2005 Pan Am Circle\, Suite 300
 \, Tampa\, FL 33607
URL;VALUE=URI:https://www.parkeastcdd.com/calendar/8803821/cdd-board-meetin
 g-sept-2026
DTSTART:20260903T180000Z
DTEND:20260903T190000Z
END:VEVENT
END:VCALENDAR
