BEGIN:VCALENDAR
VERSION:2.0
PRODID:SchoolNow
CALSCALE:GREGORIAN
BEGIN:VEVENT
UID:5d72169a-c577-11f0-b9d0-0a58a9feac02
DTSTAMP:20251119T195133Z
SUMMARY:CDD Board Meeting - Jul. 2026
LOCATION:the Offices of Inframark located at 2005 Pan Am Circle\, Suite 300
 \, Tampa\, FL 33607
URL;VALUE=URI:https://www.parkeastcdd.com/calendar/8803819/cdd-board-meetin
 g-jul-2026
DTSTART:20260702T180000Z
DTEND:20260702T190000Z
END:VEVENT
END:VCALENDAR
