BEGIN:VCALENDAR
VERSION:2.0
PRODID:SchoolNow
CALSCALE:GREGORIAN
BEGIN:VEVENT
UID:559c8b44-c577-11f0-a842-0e23e915d72f
DTSTAMP:20251119T195126Z
SUMMARY:CDD Board Meeting - Jun. 2026
LOCATION:the Offices of Inframark located at 2005 Pan Am Circle\, Suite 300
 \, Tampa\, FL 33607
URL;VALUE=URI:https://www.parkeastcdd.com/calendar/8803818/cdd-board-meetin
 g-jun-2026
DTSTART:20260604T180000Z
DTEND:20260604T190000Z
END:VEVENT
END:VCALENDAR
