BEGIN:VCALENDAR
VERSION:2.0
PRODID:SchoolNow
CALSCALE:GREGORIAN
BEGIN:VEVENT
UID:4a8f5ca4-c577-11f0-97cd-0afff9ea838f
DTSTAMP:20251119T195119Z
SUMMARY:CDD Board Meeting - May 2026
LOCATION:the Offices of Inframark located at 2005 Pan Am Circle\, Suite 300
 \, Tampa\, FL 33607
URL;VALUE=URI:https://www.parkeastcdd.com/calendar/8803817/cdd-board-meetin
 g-may-2026
DTSTART:20260507T180000Z
DTEND:20260507T190000Z
END:VEVENT
END:VCALENDAR
