BEGIN:VCALENDAR
VERSION:2.0
PRODID:SchoolNow
CALSCALE:GREGORIAN
BEGIN:VEVENT
UID:3dedb856-c577-11f0-9c2e-0a58a9feac02
DTSTAMP:20260406T192701Z
SUMMARY:CDD Board Meeting (Public Hearing)- Apr. 2026
LOCATION:the Offices of Inframark located at 2005 Pan Am Circle\, Suite 300
 \, Tampa\, FL 33607
URL;VALUE=URI:https://www.parkeastcdd.com/calendar/8803816/cdd-board-meetin
 g-public-hearing-apr-2026
DTSTART:20260402T180000Z
DTEND:20260402T190000Z
ATTACH;FILENAME=2026-04-02 Park East Agenda Package.pdf;FMTTYPE=application
 /pdf:https://campussuite-storage.s3.amazonaws.com/prod/1559307/5328d67c-bb
 1f-11f0-8a0a-0afffa06ec9d/3087038/30eb8726-31ee-11f1-8b3a-0a58a9feac02/fil
 e/2026-04-02 Park East Agenda Package.pdf
END:VEVENT
END:VCALENDAR
