BEGIN:VCALENDAR
VERSION:2.0
PRODID:SchoolNow
CALSCALE:GREGORIAN
BEGIN:VEVENT
UID:2dbdf31a-c577-11f0-9b2a-0afff9ea838f
DTSTAMP:20260406T192640Z
SUMMARY:CDD Board Meeting - Mar. 2026
LOCATION:the Offices of Inframark located at 2005 Pan Am Circle\, Suite 300
 \, Tampa\, FL 33607
URL;VALUE=URI:https://www.parkeastcdd.com/calendar/8803815/cdd-board-meetin
 g-mar-2026
DTSTART:20260305T190000Z
DTEND:20260305T200000Z
ATTACH;FILENAME=2026-03-05 Park East Agenda Package.pdf;FMTTYPE=application
 /pdf:https://campussuite-storage.s3.amazonaws.com/prod/1559307/5328d67c-bb
 1f-11f0-8a0a-0afffa06ec9d/3087039/30ebb642-31ee-11f1-857f-0a58a9feac02/fil
 e/2026-03-05 Park East Agenda Package.pdf
END:VEVENT
END:VCALENDAR
