BEGIN:VCALENDAR
VERSION:2.0
PRODID:SchoolNow
CALSCALE:GREGORIAN
BEGIN:VEVENT
UID:1c781cfc-c577-11f0-9fd9-0a58a9feac02
DTSTAMP:20260406T192559Z
SUMMARY:CDD Board Meeting - Jan. 2026
LOCATION:the Offices of Inframark located at 2005 Pan Am Circle\, Suite 300
 \, Tampa\, FL 33607
URL;VALUE=URI:https://www.parkeastcdd.com/calendar/8803813/cdd-board-meetin
 g-jan-2026
DTSTART:20260108T190000Z
DTEND:20260108T200000Z
ATTACH;FILENAME=2026-01-08 PE Agenda.pdf;FMTTYPE=application/pdf:https://ca
 mpussuite-storage.s3.amazonaws.com/prod/1559307/5328d67c-bb1f-11f0-8a0a-0a
 fffa06ec9d/3087016/a62f5cac-31e8-11f1-ad6b-0ea95dd34c39/file/2026-01-08 PE
  Agenda.pdf
END:VEVENT
END:VCALENDAR
