BEGIN:VCALENDAR
VERSION:2.0
PRODID:SchoolNow
CALSCALE:GREGORIAN
BEGIN:VEVENT
UID:09d8b692-c577-11f0-9312-0a58a9feac02
DTSTAMP:20260406T192530Z
SUMMARY:CDD Board Meeting - Nov. 2025
LOCATION:the Offices of Inframark located at 2005 Pan Am Circle\, Suite 300
 \, Tampa\, FL 33607
URL;VALUE=URI:https://www.parkeastcdd.com/calendar/8803811/cdd-board-meetin
 g-nov-2025
DTSTART:20251106T190000Z
DTEND:20251106T200000Z
ATTACH;FILENAME=2025-11-06 Park East Agenda Package.pdf;FMTTYPE=application
 /pdf:https://campussuite-storage.s3.amazonaws.com/prod/1559307/5328d67c-bb
 1f-11f0-8a0a-0afffa06ec9d/3087042/30ebb9bc-31ee-11f1-a4f9-0a58a9feac02/fil
 e/2025-11-06 Park East Agenda Package.pdf
END:VEVENT
END:VCALENDAR
