BEGIN:VCALENDAR
VERSION:2.0
PRODID:SchoolNow
CALSCALE:GREGORIAN
BEGIN:VEVENT
UID:fe8f79ec-c576-11f0-8666-0e23e915d72f
DTSTAMP:20260406T192514Z
SUMMARY:CDD Board Meeting - Oct. 2025
LOCATION:the Offices of Inframark located at 2005 Pan Am Circle\, Suite 300
 \, Tampa\, FL 33607
URL;VALUE=URI:https://www.parkeastcdd.com/calendar/8803810/cdd-board-meetin
 g-oct-2025
DTSTART:20251002T180000Z
DTEND:20251002T190000Z
ATTACH;FILENAME=2025-10-02 Park East Agenda Package.pdf;FMTTYPE=application
 /pdf:https://campussuite-storage.s3.amazonaws.com/prod/1559307/5328d67c-bb
 1f-11f0-8a0a-0afffa06ec9d/3087043/30ebba52-31ee-11f1-86f3-0a58a9feac02/fil
 e/2025-10-02 Park East Agenda Package.pdf
END:VEVENT
END:VCALENDAR
